BEGIN:VCALENDAR
VERSION:2.0
PRODID:SchoolNow
CALSCALE:GREGORIAN
BEGIN:VEVENT
UID:4dcfac78-300f-11f0-8fc8-02cc0c8379f7
DTSTAMP:20251216T154523Z
SUMMARY:CROSS COUNTRY-V Boys @ First to the Finish Invitational (Game)
LOCATION:Away - Detweiller Park
URL;VALUE=URI:https://www.cusd201.org/whs/athletics/calendar/8127746/cross-
 country-v-boys-first-to-the-finish-invitational-game
DTSTART:20250913T130000Z
DTEND:20250913T150000Z
END:VEVENT
END:VCALENDAR
