BEGIN:VCALENDAR
VERSION:2.0
PRODID:SchoolNow
CALSCALE:GREGORIAN
BEGIN:VEVENT
UID:4dcfad68-300f-11f0-a92f-02cc0c8379f7
DTSTAMP:20251216T154523Z
SUMMARY:FOOTBALL-V Boys - VS Walther Christian Academy (Game)
LOCATION:HOME - Westmont HS Stadium
URL;VALUE=URI:https://www.cusd201.org/whs/athletics/calendar/8127747/footba
 ll-v-boys-vs-walther-christian-academy-game
DTSTART:20250927T000000Z
DTEND:20250927T023000Z
END:VEVENT
END:VCALENDAR
