BEGIN:VCALENDAR
VERSION:2.0
PRODID:SchoolNow
CALSCALE:GREGORIAN
BEGIN:VEVENT
UID:4dcfae3a-300f-11f0-887c-02cc0c8379f7
DTSTAMP:20251216T154523Z
SUMMARY:CROSS COUNTRY-JV Boys @ Bureau Valley (Game)
LOCATION:Away - Bureau Valley
URL;VALUE=URI:https://www.cusd201.org/whs/athletics/calendar/8127748/cross-
 country-jv-boys-bureau-valley-game
DTSTART:20250920T143000Z
DTEND:20250920T170000Z
END:VEVENT
END:VCALENDAR
