BEGIN:VCALENDAR
VERSION:2.0
PRODID:SchoolNow
CALSCALE:GREGORIAN
BEGIN:VEVENT
UID:4dcfaffc-300f-11f0-b6aa-02cc0c8379f7
DTSTAMP:20251216T154522Z
SUMMARY:CROSS COUNTRY-V Girls @ Bureau Valley (Game)
LOCATION:Away - Bureau Valley
URL;VALUE=URI:https://www.cusd201.org/whs/athletics/calendar/8127750/cross-
 country-v-girls-bureau-valley-game
DTSTART:20250920T150000Z
DTEND:20250920T170000Z
END:VEVENT
END:VCALENDAR
