BEGIN:VCALENDAR
VERSION:2.0
PRODID:SchoolNow
CALSCALE:GREGORIAN
BEGIN:VEVENT
UID:4dcfb0e2-300f-11f0-a4ac-02cc0c8379f7
DTSTAMP:20251216T154523Z
SUMMARY:FOOTBALL-V Boys - VS Catalyst Maria (Game)
LOCATION:HOME - Westmont HS Stadium
URL;VALUE=URI:https://www.cusd201.org/whs/athletics/calendar/8127751/footba
 ll-v-boys-vs-catalyst-maria-game
DTSTART:20250906T000000Z
DTEND:20250906T023000Z
END:VEVENT
END:VCALENDAR
