BEGIN:VCALENDAR
VERSION:2.0
PRODID:SchoolNow
CALSCALE:GREGORIAN
BEGIN:VEVENT
UID:4dcfb1be-300f-11f0-a9f3-02cc0c8379f7
DTSTAMP:20251216T154523Z
SUMMARY:FOOTBALL-V Boys @ Walther Christian Academy (Game)
LOCATION:Away - Walther Christian Academy
URL;VALUE=URI:https://www.cusd201.org/whs/athletics/calendar/8127752/footba
 ll-v-boys-walther-christian-academy-game
DTSTART:20251018T180000Z
DTEND:20251018T200000Z
END:VEVENT
END:VCALENDAR
