BEGIN:VCALENDAR
VERSION:2.0
PRODID:SchoolNow
CALSCALE:GREGORIAN
BEGIN:VEVENT
UID:4dcfb6e6-300f-11f0-8f92-02cc0c8379f7
DTSTAMP:20251216T154522Z
SUMMARY:VOLLEYBALL-F Girls @ Elmwood Park (Game)
LOCATION:Away - Elmwood Park
URL;VALUE=URI:https://www.cusd201.org/whs/athletics/calendar/8127758/volley
 ball-f-girls-elmwood-park-game
DTSTART:20250929T213000Z
DTEND:20250929T223000Z
END:VEVENT
END:VCALENDAR
