BEGIN:VCALENDAR
VERSION:2.0
PRODID:SchoolNow
CALSCALE:GREGORIAN
BEGIN:VEVENT
UID:4dcfb7b8-300f-11f0-9ade-02cc0c8379f7
DTSTAMP:20251216T154523Z
SUMMARY:ADMINISTRATION-N - VS Craft Show (Game)
LOCATION:HOME - Westmont HS Gym
URL;VALUE=URI:https://www.cusd201.org/whs/athletics/calendar/8127759/admini
 stration-n-vs-craft-show-game
DTSTART:20251206T150000Z
DTEND:20251206T210000Z
END:VEVENT
END:VCALENDAR
