BEGIN:VCALENDAR
VERSION:2.0
PRODID:SchoolNow
CALSCALE:GREGORIAN
BEGIN:VEVENT
UID:4dcfb8b2-300f-11f0-a436-02cc0c8379f7
DTSTAMP:20251216T154523Z
SUMMARY:ADMINISTRATION-N - VS Craft Show Set Up (Game)
LOCATION:HOME - Westmont HS Gym
URL;VALUE=URI:https://www.cusd201.org/whs/athletics/calendar/8127760/admini
 stration-n-vs-craft-show-set-up-game
DTSTART:20251206T000000Z
DTEND:20251206T040000Z
END:VEVENT
END:VCALENDAR
