BEGIN:VCALENDAR
VERSION:2.0
PRODID:SchoolNow
CALSCALE:GREGORIAN
BEGIN:VEVENT
UID:4dcfb98e-300f-11f0-b3c4-02cc0c8379f7
DTSTAMP:20251216T154523Z
SUMMARY:VOLLEYBALL-V Girls @ IMSA - Glenn Schwartzwalder Tournament (Game)
LOCATION:Away - IMSA - Glenn Schwartzwalder Tournament
URL;VALUE=URI:https://www.cusd201.org/whs/athletics/calendar/8127761/volley
 ball-v-girls-imsa-glenn-schwartzwalder-tournament-game
DTSTART:20250920T180000Z
DTEND:20250920T200000Z
END:VEVENT
END:VCALENDAR
