BEGIN:VCALENDAR
VERSION:2.0
PRODID:SchoolNow
CALSCALE:GREGORIAN
BEGIN:VEVENT
UID:4dcfba6a-300f-11f0-b1c5-02cc0c8379f7
DTSTAMP:20251216T154523Z
SUMMARY:VOLLEYBALL-F Girls @ Aurora Central Catholic (Game)
LOCATION:Away - Aurora Central Catholic
URL;VALUE=URI:https://www.cusd201.org/whs/athletics/calendar/8127762/volley
 ball-f-girls-aurora-central-catholic-game
DTSTART:20251009T213000Z
DTEND:20251009T223000Z
END:VEVENT
END:VCALENDAR
