BEGIN:VCALENDAR
VERSION:2.0
PRODID:SchoolNow
CALSCALE:GREGORIAN
BEGIN:VEVENT
UID:4dcfbb46-300f-11f0-b993-02cc0c8379f7
DTSTAMP:20251216T154523Z
SUMMARY:VOLLEYBALL-JV Girls @ Aurora Central Catholic (Game)
LOCATION:Away - Aurora Central Catholic
URL;VALUE=URI:https://www.cusd201.org/whs/athletics/calendar/8127763/volley
 ball-jv-girls-aurora-central-catholic-game
DTSTART:20251009T223000Z
DTEND:20251009T233000Z
END:VEVENT
END:VCALENDAR
