BEGIN:VCALENDAR
VERSION:2.0
PRODID:SchoolNow
CALSCALE:GREGORIAN
BEGIN:VEVENT
UID:4dcfbc22-300f-11f0-b405-02cc0c8379f7
DTSTAMP:20251216T154522Z
SUMMARY:VOLLEYBALL-V Girls @ Aurora Central Catholic (Game)
LOCATION:Away - Aurora Central Catholic
URL;VALUE=URI:https://www.cusd201.org/whs/athletics/calendar/8127764/volley
 ball-v-girls-aurora-central-catholic-game
DTSTART:20251009T233000Z
DTEND:20251010T003000Z
END:VEVENT
END:VCALENDAR
