BEGIN:VCALENDAR
VERSION:2.0
PRODID:SchoolNow
CALSCALE:GREGORIAN
BEGIN:VEVENT
UID:4dcfbd12-300f-11f0-a5db-02cc0c8379f7
DTSTAMP:20251216T154523Z
SUMMARY:VOLLEYBALL-V Girls - VS CICS/Northtown (Game)
LOCATION:HOME - Westmont HS Gym
URL;VALUE=URI:https://www.cusd201.org/whs/athletics/calendar/8127765/volley
 ball-v-girls-vs-cics-northtown-game
DTSTART:20250911T230000Z
DTEND:20250912T000000Z
END:VEVENT
END:VCALENDAR
