BEGIN:VCALENDAR
VERSION:2.0
PRODID:SchoolNow
CALSCALE:GREGORIAN
BEGIN:VEVENT
UID:4dcfbdee-300f-11f0-897c-02cc0c8379f7
DTSTAMP:20251216T154522Z
SUMMARY:VOLLEYBALL-V Girls @ CICS Ellison (Game)
LOCATION:Away - Cics Ellison
URL;VALUE=URI:https://www.cusd201.org/whs/athletics/calendar/8127766/volley
 ball-v-girls-cics-ellison-game
DTSTART:20251003T220000Z
DTEND:20251003T230000Z
END:VEVENT
END:VCALENDAR
