BEGIN:VCALENDAR
VERSION:2.0
PRODID:SchoolNow
CALSCALE:GREGORIAN
BEGIN:VEVENT
UID:4dcfbeca-300f-11f0-8788-02cc0c8379f7
DTSTAMP:20251216T154523Z
SUMMARY:VOLLEYBALL-V Girls @ Cristo Rey (Game)
LOCATION:Away - Cristo Rey
URL;VALUE=URI:https://www.cusd201.org/whs/athletics/calendar/8127767/volley
 ball-v-girls-cristo-rey-game
DTSTART:20250918T233000Z
DTEND:20250919T003000Z
END:VEVENT
END:VCALENDAR
