BEGIN:VCALENDAR
VERSION:2.0
PRODID:SchoolNow
CALSCALE:GREGORIAN
BEGIN:VEVENT
UID:4dcfbfa6-300f-11f0-868a-02cc0c8379f7
DTSTAMP:20251216T154523Z
SUMMARY:VOLLEYBALL-V Girls @ Christ the King (Game)
LOCATION:Away - Christ the King
URL;VALUE=URI:https://www.cusd201.org/whs/athletics/calendar/8127768/volley
 ball-v-girls-christ-the-king-game
DTSTART:20250923T230000Z
DTEND:20250924T000000Z
END:VEVENT
END:VCALENDAR
