BEGIN:VCALENDAR
VERSION:2.0
PRODID:SchoolNow
CALSCALE:GREGORIAN
BEGIN:VEVENT
UID:4dcfc15e-300f-11f0-912a-02cc0c8379f7
DTSTAMP:20251216T154523Z
SUMMARY:VOLLEYBALL-V Girls - VS Providence St. Mel (Game)
LOCATION:HOME - Westmont HS Gym
URL;VALUE=URI:https://www.cusd201.org/whs/athletics/calendar/8127770/volley
 ball-v-girls-vs-providence-st-mel-game
DTSTART:20251002T223000Z
DTEND:20251003T003000Z
END:VEVENT
END:VCALENDAR
