BEGIN:VCALENDAR
VERSION:2.0
PRODID:SchoolNow
CALSCALE:GREGORIAN
BEGIN:VEVENT
UID:4dcfc258-300f-11f0-9da0-02cc0c8379f7
DTSTAMP:20251216T154523Z
SUMMARY:VOLLEYBALL-F Girls - VS Rochelle Zell (Game)
LOCATION:HOME - Westmont HS Gym
URL;VALUE=URI:https://www.cusd201.org/whs/athletics/calendar/8127771/volley
 ball-f-girls-vs-rochelle-zell-game
DTSTART:20250915T220000Z
DTEND:20250915T230000Z
END:VEVENT
END:VCALENDAR
