BEGIN:VCALENDAR
VERSION:2.0
PRODID:SchoolNow
CALSCALE:GREGORIAN
BEGIN:VEVENT
UID:4dcfc33e-300f-11f0-b795-02cc0c8379f7
DTSTAMP:20251216T154523Z
SUMMARY:VOLLEYBALL-V Girls - VS Walther Christian Academy (Game)
LOCATION:HOME - Westmont HS Gym
URL;VALUE=URI:https://www.cusd201.org/whs/athletics/calendar/8127772/volley
 ball-v-girls-vs-walther-christian-academy-game
DTSTART:20251017T000000Z
DTEND:20251017T010000Z
END:VEVENT
END:VCALENDAR
