BEGIN:VCALENDAR
VERSION:2.0
PRODID:SchoolNow
CALSCALE:GREGORIAN
BEGIN:VEVENT
UID:4dcfc5c8-300f-11f0-b24d-02cc0c8379f7
DTSTAMP:20251216T154523Z
SUMMARY:SOCCER-V Boys @ Chicago Prep Conference Tournament (Game)
LOCATION:Away - Harrison Park
URL;VALUE=URI:https://www.cusd201.org/whs/athletics/calendar/8127775/soccer
 -v-boys-chicago-prep-conference-tournament-game
DTSTART:20251009T220000Z
DTEND:20251010T000000Z
END:VEVENT
END:VCALENDAR
