BEGIN:VCALENDAR
VERSION:2.0
PRODID:SchoolNow
CALSCALE:GREGORIAN
BEGIN:VEVENT
UID:4dcfc776-300f-11f0-9e02-02cc0c8379f7
DTSTAMP:20251216T154523Z
SUMMARY:SOCCER-V Boys - VS Ida Crown (Game)
LOCATION:HOME - Westmont HS Stadium
URL;VALUE=URI:https://www.cusd201.org/whs/athletics/calendar/8127777/soccer
 -v-boys-vs-ida-crown-game
DTSTART:20250908T230000Z
DTEND:20250909T010000Z
END:VEVENT
END:VCALENDAR
