BEGIN:VCALENDAR
VERSION:2.0
PRODID:SchoolNow
CALSCALE:GREGORIAN
BEGIN:VEVENT
UID:4dcfc848-300f-11f0-afc2-02cc0c8379f7
DTSTAMP:20251216T154523Z
SUMMARY:SOCCER-V Boys @ CICS/Northtown (Game)
LOCATION:Away - Skokie Sports Park
URL;VALUE=URI:https://www.cusd201.org/whs/athletics/calendar/8127778/soccer
 -v-boys-cics-northtown-game
DTSTART:20250910T220000Z
DTEND:20250911T000000Z
END:VEVENT
END:VCALENDAR
