BEGIN:VCALENDAR
VERSION:2.0
PRODID:SchoolNow
CALSCALE:GREGORIAN
BEGIN:VEVENT
UID:4dcfc92e-300f-11f0-b37b-02cc0c8379f7
DTSTAMP:20251216T154523Z
SUMMARY:SOCCER-V Boys - VS Cristo Rey (Game)
LOCATION:HOME - Westmont HS Stadium
URL;VALUE=URI:https://www.cusd201.org/whs/athletics/calendar/8127779/soccer
 -v-boys-vs-cristo-rey-game
DTSTART:20250925T000000Z
DTEND:20250925T020000Z
END:VEVENT
END:VCALENDAR
