BEGIN:VCALENDAR
VERSION:2.0
PRODID:SchoolNow
CALSCALE:GREGORIAN
BEGIN:VEVENT
UID:4dcfccb2-300f-11f0-9e62-02cc0c8379f7
DTSTAMP:20251216T154522Z
SUMMARY:BASKETBALL-V Girls - VS Rochelle Zell (Game)
LOCATION:HOME - Westmont HS Gym
URL;VALUE=URI:https://www.cusd201.org/whs/athletics/calendar/8127783/basket
 ball-v-girls-vs-rochelle-zell-game
DTSTART:20251212T010000Z
DTEND:20251212T030000Z
END:VEVENT
END:VCALENDAR
