BEGIN:VCALENDAR
VERSION:2.0
PRODID:SchoolNow
CALSCALE:GREGORIAN
BEGIN:VEVENT
UID:4dcfcd84-300f-11f0-a5f9-02cc0c8379f7
DTSTAMP:20251216T154523Z
SUMMARY:BASKETBALL-V Girls @ Holy Trinity (Game)
LOCATION:Away - Holy Trinity
URL;VALUE=URI:https://www.cusd201.org/whs/athletics/calendar/8127784/basket
 ball-v-girls-holy-trinity-game
DTSTART:20251216T230000Z
DTEND:20251217T010000Z
END:VEVENT
END:VCALENDAR
