BEGIN:VCALENDAR
VERSION:2.0
PRODID:SchoolNow
CALSCALE:GREGORIAN
BEGIN:VEVENT
UID:4dcfce60-300f-11f0-bf6d-02cc0c8379f7
DTSTAMP:20251216T154523Z
SUMMARY:BASKETBALL-V Girls @ Christ the King (Game)
LOCATION:Away - Christ The king
URL;VALUE=URI:https://www.cusd201.org/whs/athletics/calendar/8127785/basket
 ball-v-girls-christ-the-king-game
DTSTART:20260109T013000Z
DTEND:20260109T030000Z
END:VEVENT
END:VCALENDAR
