BEGIN:VCALENDAR
VERSION:2.0
PRODID:SchoolNow
CALSCALE:GREGORIAN
BEGIN:VEVENT
UID:4dcfcf46-300f-11f0-8f24-02cc0c8379f7
DTSTAMP:20251216T154523Z
SUMMARY:BASKETBALL-V Girls @ Walther Christian Academy (Game)
LOCATION:Away - Walther Christian Academy
URL;VALUE=URI:https://www.cusd201.org/whs/athletics/calendar/8127786/basket
 ball-v-girls-walther-christian-academy-game
DTSTART:20260114T010000Z
DTEND:20260114T030000Z
END:VEVENT
END:VCALENDAR
