BEGIN:VCALENDAR
VERSION:2.0
PRODID:SchoolNow
CALSCALE:GREGORIAN
BEGIN:VEVENT
UID:4dcfd022-300f-11f0-80dd-02cc0c8379f7
DTSTAMP:20251216T154522Z
SUMMARY:BASKETBALL-V Girls - VS Our Lady of Tepeyac (Game)
LOCATION:HOME - Westmont HS Gym
URL;VALUE=URI:https://www.cusd201.org/whs/athletics/calendar/8127787/basket
 ball-v-girls-vs-our-lady-of-tepeyac-game
DTSTART:20260115T230000Z
DTEND:20260116T010000Z
END:VEVENT
END:VCALENDAR
