BEGIN:VCALENDAR
VERSION:2.0
PRODID:SchoolNow
CALSCALE:GREGORIAN
BEGIN:VEVENT
UID:4dcfd0fe-300f-11f0-bc6c-02cc0c8379f7
DTSTAMP:20251216T154523Z
SUMMARY:BASKETBALL-V Girls @ Ida Crown (Game)
LOCATION:Away - Ida Crown
URL;VALUE=URI:https://www.cusd201.org/whs/athletics/calendar/8127788/basket
 ball-v-girls-ida-crown-game
DTSTART:20260121T010000Z
DTEND:20260121T030000Z
END:VEVENT
END:VCALENDAR
