BEGIN:VCALENDAR
VERSION:2.0
PRODID:SchoolNow
CALSCALE:GREGORIAN
BEGIN:VEVENT
UID:4dcfd2b6-300f-11f0-9ff5-02cc0c8379f7
DTSTAMP:20251216T154523Z
SUMMARY:BASKETBALL-V Girls - VS CICS/Northtown (Game)
LOCATION:HOME - Westmont HS Gym
URL;VALUE=URI:https://www.cusd201.org/whs/athletics/calendar/8127790/basket
 ball-v-girls-vs-cics-northtown-game
DTSTART:20260128T000000Z
DTEND:20260128T020000Z
END:VEVENT
END:VCALENDAR
