BEGIN:VCALENDAR
VERSION:2.0
PRODID:SchoolNow
CALSCALE:GREGORIAN
BEGIN:VEVENT
UID:4dcfd39c-300f-11f0-978a-02cc0c8379f7
DTSTAMP:20251216T154522Z
SUMMARY:BASKETBALL-V Girls @ Josephinum (Game)
LOCATION:Away - Josephinum
URL;VALUE=URI:https://www.cusd201.org/whs/athletics/calendar/8127791/basket
 ball-v-girls-josephinum-game
DTSTART:20260129T233000Z
DTEND:20260130T013000Z
END:VEVENT
END:VCALENDAR
