BEGIN:VCALENDAR
VERSION:2.0
PRODID:SchoolNow
CALSCALE:GREGORIAN
BEGIN:VEVENT
UID:4dcfd478-300f-11f0-a64a-02cc0c8379f7
DTSTAMP:20251216T154522Z
SUMMARY:TIME TBD- BASKETBALL-V Girls - VS TBA (Game)
LOCATION:HOME - Westmont HS Gym
URL;VALUE=URI:https://www.cusd201.org/whs/athletics/calendar/8127792/time-t
 bd-basketball-v-girls-vs-tba-game
DTSTART:20260203T060000Z
DTEND:20260204T055900Z
END:VEVENT
END:VCALENDAR
