BEGIN:VCALENDAR
VERSION:2.0
PRODID:SchoolNow
CALSCALE:GREGORIAN
BEGIN:VEVENT
UID:4dcfd702-300f-11f0-876d-02cc0c8379f7
DTSTAMP:20251216T154522Z
SUMMARY:TIME TBD- BASKETBALL-V Girls @ Chicago Prep Conference Tournament (
 Game)
LOCATION:Away -
URL;VALUE=URI:https://www.cusd201.org/whs/athletics/calendar/8127795/time-t
 bd-basketball-v-girls-chicago-prep-conference-tournament-game
DTSTART:20260211T060000Z
DTEND:20260212T055900Z
END:VEVENT
END:VCALENDAR
