BEGIN:VCALENDAR
VERSION:2.0
PRODID:SchoolNow
CALSCALE:GREGORIAN
BEGIN:VEVENT
UID:4dcfd98c-300f-11f0-8a71-02cc0c8379f7
DTSTAMP:20251216T154522Z
SUMMARY:TIME TBD- VOLLEYBALL-V Girls @ Chicago Prep Conference Tournament (
 Game)
LOCATION:Away - Chicago Prep Conference Tournament\,Walther Christian
URL;VALUE=URI:https://www.cusd201.org/whs/athletics/calendar/8127798/time-t
 bd-volleyball-v-girls-chicago-prep-conference-tournament-game
DTSTART:20251022T050000Z
DTEND:20251023T045900Z
END:VEVENT
END:VCALENDAR
