BEGIN:VCALENDAR
VERSION:2.0
PRODID:SchoolNow
CALSCALE:GREGORIAN
BEGIN:VEVENT
UID:4dcfda72-300f-11f0-aab4-02cc0c8379f7
DTSTAMP:20251216T154523Z
SUMMARY:VOLLEYBALL-V Girls - VS Chicago Prep Conference Tournament (Game)
LOCATION:HOME - Westmont HS Gym
URL;VALUE=URI:https://www.cusd201.org/whs/athletics/calendar/8127799/volley
 ball-v-girls-vs-chicago-prep-conference-tournament-game
DTSTART:20251021T220000Z
DTEND:20251022T000000Z
END:VEVENT
END:VCALENDAR
