BEGIN:VCALENDAR
VERSION:2.0
PRODID:SchoolNow
CALSCALE:GREGORIAN
BEGIN:VEVENT
UID:4dcfdb4e-300f-11f0-9b84-02cc0c8379f7
DTSTAMP:20251216T154523Z
SUMMARY:ADMINISTRATION-N - VS Chicago Prep Conference Tournament (Game)
LOCATION:HOME - Westmont HS Gym
URL;VALUE=URI:https://www.cusd201.org/whs/athletics/calendar/8127800/admini
 stration-n-vs-chicago-prep-conference-tournament-game
DTSTART:20251023T223000Z
DTEND:20251024T013000Z
END:VEVENT
END:VCALENDAR
