BEGIN:VCALENDAR
VERSION:2.0
PRODID:SchoolNow
CALSCALE:GREGORIAN
BEGIN:VEVENT
UID:4dcfdc2a-300f-11f0-bf69-02cc0c8379f7
DTSTAMP:20251216T154522Z
SUMMARY:BASKETBALL-V Boys @ CICS/Northtown (Game)
LOCATION:Away - CICS/Northtown
URL;VALUE=URI:https://www.cusd201.org/whs/athletics/calendar/8127801/basket
 ball-v-boys-cics-northtown-game
DTSTART:20251206T003000Z
DTEND:20251206T020000Z
END:VEVENT
END:VCALENDAR
