BEGIN:VCALENDAR
VERSION:2.0
PRODID:SchoolNow
CALSCALE:GREGORIAN
BEGIN:VEVENT
UID:4dcfdd06-300f-11f0-9463-02cc0c8379f7
DTSTAMP:20251216T154523Z
SUMMARY:TIME TBD- BASKETBALL-V Boys @ CICS Ellison (Game)
LOCATION:Away - CICS Ellison
URL;VALUE=URI:https://www.cusd201.org/whs/athletics/calendar/8127802/time-t
 bd-basketball-v-boys-cics-ellison-game
DTSTART:20251213T003000Z
DTEND:20251213T055900Z
END:VEVENT
END:VCALENDAR
