BEGIN:VCALENDAR
VERSION:2.0
PRODID:SchoolNow
CALSCALE:GREGORIAN
BEGIN:VEVENT
UID:4dcfdeb4-300f-11f0-87db-02cc0c8379f7
DTSTAMP:20251216T154523Z
SUMMARY:BASKETBALL-V Boys @ Cristo Rey (Game)
LOCATION:Away - Cristo Rey
URL;VALUE=URI:https://www.cusd201.org/whs/athletics/calendar/8127804/basket
 ball-v-boys-cristo-rey-game
DTSTART:20260131T010000Z
DTEND:20260131T030000Z
END:VEVENT
END:VCALENDAR
