BEGIN:VCALENDAR
VERSION:2.0
PRODID:SchoolNow
CALSCALE:GREGORIAN
BEGIN:VEVENT
UID:4dcfdf90-300f-11f0-8ae8-02cc0c8379f7
DTSTAMP:20251216T154523Z
SUMMARY:BASKETBALL-V Boys - VS Holy Trinity (Game)
LOCATION:HOME - Westmont HS Gym
URL;VALUE=URI:https://www.cusd201.org/whs/athletics/calendar/8127805/basket
 ball-v-boys-vs-holy-trinity-game
DTSTART:20260124T010000Z
DTEND:20260124T030000Z
END:VEVENT
END:VCALENDAR
