BEGIN:VCALENDAR
VERSION:2.0
PRODID:SchoolNow
CALSCALE:GREGORIAN
BEGIN:VEVENT
UID:4dcfe062-300f-11f0-809a-02cc0c8379f7
DTSTAMP:20251216T154522Z
SUMMARY:BASKETBALL-V Boys - VS Rochelle Zell (Game)
LOCATION:HOME - Westmont HS Gym
URL;VALUE=URI:https://www.cusd201.org/whs/athletics/calendar/8127806/basket
 ball-v-boys-vs-rochelle-zell-game
DTSTART:20260129T010000Z
DTEND:20260129T030000Z
END:VEVENT
END:VCALENDAR
