BEGIN:VCALENDAR
VERSION:2.0
PRODID:SchoolNow
CALSCALE:GREGORIAN
BEGIN:VEVENT
UID:4dcfe148-300f-11f0-bb49-02cc0c8379f7
DTSTAMP:20251216T154523Z
SUMMARY:TIME TBD- BASKETBALL-V Boys @ Walther Christian Academy (Game)
LOCATION:Away - Walther Christian Academy
URL;VALUE=URI:https://www.cusd201.org/whs/athletics/calendar/8127807/time-t
 bd-basketball-v-boys-walther-christian-academy-game
DTSTART:20260212T013000Z
DTEND:20260212T055900Z
END:VEVENT
END:VCALENDAR
