BEGIN:VCALENDAR
VERSION:2.0
PRODID:SchoolNow
CALSCALE:GREGORIAN
BEGIN:VEVENT
UID:4dcfe22e-300f-11f0-882c-02cc0c8379f7
DTSTAMP:20251216T154523Z
SUMMARY:TIME TBD- BASKETBALL-V Boys @ Chicago Prep Conference Tournament (G
 ame)
LOCATION:Away -
URL;VALUE=URI:https://www.cusd201.org/whs/athletics/calendar/8127808/time-t
 bd-basketball-v-boys-chicago-prep-conference-tournament-game
DTSTART:20260216T060000Z
DTEND:20260217T055900Z
END:VEVENT
END:VCALENDAR
