BEGIN:VCALENDAR
VERSION:2.0
PRODID:SchoolNow
CALSCALE:GREGORIAN
BEGIN:VEVENT
UID:4dcfe300-300f-11f0-9c3b-02cc0c8379f7
DTSTAMP:20251216T154523Z
SUMMARY:TIME TBD- BASKETBALL-V Boys @ Chicago Prep Conference Tournament (G
 ame)
LOCATION:Away -
URL;VALUE=URI:https://www.cusd201.org/whs/athletics/calendar/8127809/time-t
 bd-basketball-v-boys-chicago-prep-conference-tournament-game
DTSTART:20260217T060000Z
DTEND:20260218T055900Z
END:VEVENT
END:VCALENDAR
