BEGIN:VCALENDAR
VERSION:2.0
PRODID:SchoolNow
CALSCALE:GREGORIAN
BEGIN:VEVENT
UID:4dcfe3f0-300f-11f0-af43-02cc0c8379f7
DTSTAMP:20251216T154523Z
SUMMARY:TIME TBD- BASKETBALL-V Boys @ Chicago Prep Conference Tournament (G
 ame)
LOCATION:Away -
URL;VALUE=URI:https://www.cusd201.org/whs/athletics/calendar/8127810/time-t
 bd-basketball-v-boys-chicago-prep-conference-tournament-game
DTSTART:20260218T060000Z
DTEND:20260219T055900Z
END:VEVENT
END:VCALENDAR
