BEGIN:VCALENDAR
VERSION:2.0
PRODID:SchoolNow
CALSCALE:GREGORIAN
BEGIN:VEVENT
UID:4dcfe594-300f-11f0-b324-02cc0c8379f7
DTSTAMP:20251216T154523Z
SUMMARY:SOCCER-V Girls - VS Cristo Rey (Game)
LOCATION:HOME - Westmont HS Stadium
URL;VALUE=URI:https://www.cusd201.org/whs/athletics/calendar/8127812/soccer
 -v-girls-vs-cristo-rey-game
DTSTART:20260424T223000Z
DTEND:20260425T003000Z
END:VEVENT
END:VCALENDAR
