BEGIN:VCALENDAR
VERSION:2.0
PRODID:SchoolNow
CALSCALE:GREGORIAN
BEGIN:VEVENT
UID:4dcfe666-300f-11f0-924f-02cc0c8379f7
DTSTAMP:20251216T154523Z
SUMMARY:SOCCER-V Girls @ CICS/Northtown (Game)
LOCATION:Away - CICS/Northtown
URL;VALUE=URI:https://www.cusd201.org/whs/athletics/calendar/8127813/soccer
 -v-girls-cics-northtown-game
DTSTART:20260420T220000Z
DTEND:20260421T000000Z
END:VEVENT
END:VCALENDAR
