BEGIN:VCALENDAR
VERSION:2.0
PRODID:SchoolNow
CALSCALE:GREGORIAN
BEGIN:VEVENT
UID:4dcfe74c-300f-11f0-b19f-02cc0c8379f7
DTSTAMP:20251216T154522Z
SUMMARY:SOCCER-V Girls - VS Ida Crown (Game)
LOCATION:HOME - Westmont HS Stadium
URL;VALUE=URI:https://www.cusd201.org/whs/athletics/calendar/8127814/soccer
 -v-girls-vs-ida-crown-game
DTSTART:20260324T230000Z
DTEND:20260325T010000Z
END:VEVENT
END:VCALENDAR
