BEGIN:VCALENDAR
VERSION:2.0
PRODID:SchoolNow
CALSCALE:GREGORIAN
BEGIN:VEVENT
UID:4dcfe81e-300f-11f0-bdbf-02cc0c8379f7
DTSTAMP:20251216T154522Z
SUMMARY:TIME TBD- SOCCER-V Girls - VS Holy Trinity (Game)
LOCATION:HOME - Westmont HS Stadium
URL;VALUE=URI:https://www.cusd201.org/whs/athletics/calendar/8127815/time-t
 bd-soccer-v-girls-vs-holy-trinity-game
DTSTART:20260409T050000Z
DTEND:20260410T045900Z
END:VEVENT
END:VCALENDAR
